BEGIN:VCALENDAR
VERSION:2.0
PRODID:-//Freie Evangelische Baptisten-Gemeinde - ECPv6.15.18//NONSGML v1.0//EN
CALSCALE:GREGORIAN
METHOD:PUBLISH
X-WR-CALNAME:Freie Evangelische Baptisten-Gemeinde
X-ORIGINAL-URL:https://www.febg.de
X-WR-CALDESC:Veranstaltungen für Freie Evangelische Baptisten-Gemeinde
REFRESH-INTERVAL;VALUE=DURATION:PT1H
X-Robots-Tag:noindex
X-PUBLISHED-TTL:PT1H
BEGIN:VTIMEZONE
TZID:Europe/Berlin
BEGIN:DAYLIGHT
TZOFFSETFROM:+0100
TZOFFSETTO:+0200
TZNAME:CEST
DTSTART:20220327T010000
END:DAYLIGHT
BEGIN:STANDARD
TZOFFSETFROM:+0200
TZOFFSETTO:+0100
TZNAME:CET
DTSTART:20221030T010000
END:STANDARD
BEGIN:DAYLIGHT
TZOFFSETFROM:+0100
TZOFFSETTO:+0200
TZNAME:CEST
DTSTART:20230326T010000
END:DAYLIGHT
BEGIN:STANDARD
TZOFFSETFROM:+0200
TZOFFSETTO:+0100
TZNAME:CET
DTSTART:20231029T010000
END:STANDARD
BEGIN:DAYLIGHT
TZOFFSETFROM:+0100
TZOFFSETTO:+0200
TZNAME:CEST
DTSTART:20240331T010000
END:DAYLIGHT
BEGIN:STANDARD
TZOFFSETFROM:+0200
TZOFFSETTO:+0100
TZNAME:CET
DTSTART:20241027T010000
END:STANDARD
END:VTIMEZONE
BEGIN:VEVENT
DTSTART;TZID=Europe/Berlin:20230401T190000
DTEND;TZID=Europe/Berlin:20230401T204500
DTSTAMP:20260420T101531
CREATED:20230131T215629Z
LAST-MODIFIED:20230203T223924Z
UID:67082-1680375600-1680381900@www.febg.de
SUMMARY:Jugendstunde
DESCRIPTION:
URL:https://www.febg.de/event/jugendstunde-15/
END:VEVENT
BEGIN:VEVENT
DTSTART;TZID=Europe/Berlin:20230402T103000
DTEND;TZID=Europe/Berlin:20230402T123000
DTSTAMP:20260420T101531
CREATED:20230201T221631Z
LAST-MODIFIED:20230203T223924Z
UID:67085-1680431400-1680438600@www.febg.de
SUMMARY:Gottesdienst & Abendmahl Valentin Hildebrand
DESCRIPTION:
URL:https://www.febg.de/event/gottesdienst-abendmahl-valentin-hildebrand/
END:VEVENT
END:VCALENDAR