BEGIN:VCALENDAR
VERSION:2.0
PRODID:-//Freie Evangelische Baptisten-Gemeinde - ECPv6.15.18//NONSGML v1.0//EN
CALSCALE:GREGORIAN
METHOD:PUBLISH
X-WR-CALNAME:Freie Evangelische Baptisten-Gemeinde
X-ORIGINAL-URL:https://www.febg.de
X-WR-CALDESC:Veranstaltungen für Freie Evangelische Baptisten-Gemeinde
REFRESH-INTERVAL;VALUE=DURATION:PT1H
X-Robots-Tag:noindex
X-PUBLISHED-TTL:PT1H
BEGIN:VTIMEZONE
TZID:Europe/Berlin
BEGIN:DAYLIGHT
TZOFFSETFROM:+0100
TZOFFSETTO:+0200
TZNAME:CEST
DTSTART:20220327T010000
END:DAYLIGHT
BEGIN:STANDARD
TZOFFSETFROM:+0200
TZOFFSETTO:+0100
TZNAME:CET
DTSTART:20221030T010000
END:STANDARD
BEGIN:DAYLIGHT
TZOFFSETFROM:+0100
TZOFFSETTO:+0200
TZNAME:CEST
DTSTART:20230326T010000
END:DAYLIGHT
BEGIN:STANDARD
TZOFFSETFROM:+0200
TZOFFSETTO:+0100
TZNAME:CET
DTSTART:20231029T010000
END:STANDARD
BEGIN:DAYLIGHT
TZOFFSETFROM:+0100
TZOFFSETTO:+0200
TZNAME:CEST
DTSTART:20240331T010000
END:DAYLIGHT
BEGIN:STANDARD
TZOFFSETFROM:+0200
TZOFFSETTO:+0100
TZNAME:CET
DTSTART:20241027T010000
END:STANDARD
END:VTIMEZONE
BEGIN:VEVENT
DTSTART;TZID=Europe/Berlin:20230506T190000
DTEND;TZID=Europe/Berlin:20230506T204500
DTSTAMP:20260420T145814
CREATED:20230504T115720Z
LAST-MODIFIED:20230505T200159Z
UID:67136-1683399600-1683405900@www.febg.de
SUMMARY:Jugendstunde
DESCRIPTION:
URL:https://www.febg.de/event/jugendstunde-16/
END:VEVENT
BEGIN:VEVENT
DTSTART;TZID=Europe/Berlin:20230507T103000
DTEND;TZID=Europe/Berlin:20230507T123000
DTSTAMP:20260420T145814
CREATED:20230504T115720Z
LAST-MODIFIED:20230506T200251Z
UID:67137-1683455400-1683462600@www.febg.de
SUMMARY:Taufgottesdienst Kevin Lux Valentin Hildebrand
DESCRIPTION:
URL:https://www.febg.de/event/taufgottesdienst-kevin-lux-valentin-hildebrand/
END:VEVENT
BEGIN:VEVENT
DTSTART;TZID=Europe/Berlin:20230513T190000
DTEND;TZID=Europe/Berlin:20230513T204500
DTSTAMP:20260420T145814
CREATED:20230504T115720Z
LAST-MODIFIED:20230512T200223Z
UID:67138-1684004400-1684010700@www.febg.de
SUMMARY:Jugendstunde
DESCRIPTION:
URL:https://www.febg.de/event/jugendstunde-17/
END:VEVENT
BEGIN:VEVENT
DTSTART;TZID=Europe/Berlin:20230514T103000
DTEND;TZID=Europe/Berlin:20230514T120000
DTSTAMP:20260420T145814
CREATED:20230510T200008Z
LAST-MODIFIED:20230513T200343Z
UID:67187-1684060200-1684065600@www.febg.de
SUMMARY:Muttertag/Gottesdienst Kevin Lux Valentin Hildebrand
DESCRIPTION:
URL:https://www.febg.de/event/muttertag-gottesdienst-valentin-hildebrand/
END:VEVENT
BEGIN:VEVENT
DTSTART;TZID=Europe/Berlin:20230514T103000
DTEND;TZID=Europe/Berlin:20230514T123000
DTSTAMP:20260420T145814
CREATED:20230504T115720Z
LAST-MODIFIED:20230507T200134Z
UID:67139-1684060200-1684067400@www.febg.de
SUMMARY:Kindergottesdienst Kevin Lux Valentin Hildebrand
DESCRIPTION:
URL:https://www.febg.de/event/kindergottesdienst-kevin-lux-valentin-hildebrand/
END:VEVENT
BEGIN:VEVENT
DTSTART;TZID=Europe/Berlin:20230520T190000
DTEND;TZID=Europe/Berlin:20230520T204500
DTSTAMP:20260420T145814
CREATED:20230504T115720Z
LAST-MODIFIED:20230519T204940Z
UID:67140-1684609200-1684615500@www.febg.de
SUMMARY:Jugendstunde
DESCRIPTION:
URL:https://www.febg.de/event/jugendstunde-18/
END:VEVENT
BEGIN:VEVENT
DTSTART;TZID=Europe/Berlin:20230521T103000
DTEND;TZID=Europe/Berlin:20230521T123000
DTSTAMP:20260420T145814
CREATED:20230504T115720Z
LAST-MODIFIED:20230520T210117Z
UID:67141-1684665000-1684672200@www.febg.de
SUMMARY:Gottesdienst Kevin Lux Valentin Hildebrand
DESCRIPTION:
URL:https://www.febg.de/event/gottesdienst-kevin-lux-valentin-hildebrand-4/
END:VEVENT
BEGIN:VEVENT
DTSTART;TZID=Europe/Berlin:20230527T190000
DTEND;TZID=Europe/Berlin:20230527T204500
DTSTAMP:20260420T145814
CREATED:20230504T115720Z
LAST-MODIFIED:20230526T214430Z
UID:67142-1685214000-1685220300@www.febg.de
SUMMARY:Jugendstunde
DESCRIPTION:
URL:https://www.febg.de/event/jugendstunde-19/
END:VEVENT
BEGIN:VEVENT
DTSTART;TZID=Europe/Berlin:20230528T103000
DTEND;TZID=Europe/Berlin:20230528T123000
DTSTAMP:20260420T145814
CREATED:20230504T115720Z
LAST-MODIFIED:20230527T214710Z
UID:67143-1685269800-1685277000@www.febg.de
SUMMARY:Gottesdienst Kevin Lux Valentin Hildebrand
DESCRIPTION:
URL:https://www.febg.de/event/gottesdienst-kevin-lux-valentin-hildebrand-6/
END:VEVENT
END:VCALENDAR