BEGIN:VCALENDAR
VERSION:2.0
PRODID:-//Freie Evangelische Baptisten-Gemeinde - ECPv6.15.18//NONSGML v1.0//EN
CALSCALE:GREGORIAN
METHOD:PUBLISH
X-WR-CALNAME:Freie Evangelische Baptisten-Gemeinde
X-ORIGINAL-URL:https://www.febg.de
X-WR-CALDESC:Veranstaltungen für Freie Evangelische Baptisten-Gemeinde
REFRESH-INTERVAL;VALUE=DURATION:PT1H
X-Robots-Tag:noindex
X-PUBLISHED-TTL:PT1H
BEGIN:VTIMEZONE
TZID:Europe/Berlin
BEGIN:DAYLIGHT
TZOFFSETFROM:+0100
TZOFFSETTO:+0200
TZNAME:CEST
DTSTART:20220327T010000
END:DAYLIGHT
BEGIN:STANDARD
TZOFFSETFROM:+0200
TZOFFSETTO:+0100
TZNAME:CET
DTSTART:20221030T010000
END:STANDARD
BEGIN:DAYLIGHT
TZOFFSETFROM:+0100
TZOFFSETTO:+0200
TZNAME:CEST
DTSTART:20230326T010000
END:DAYLIGHT
BEGIN:STANDARD
TZOFFSETFROM:+0200
TZOFFSETTO:+0100
TZNAME:CET
DTSTART:20231029T010000
END:STANDARD
BEGIN:DAYLIGHT
TZOFFSETFROM:+0100
TZOFFSETTO:+0200
TZNAME:CEST
DTSTART:20240331T010000
END:DAYLIGHT
BEGIN:STANDARD
TZOFFSETFROM:+0200
TZOFFSETTO:+0100
TZNAME:CET
DTSTART:20241027T010000
END:STANDARD
END:VTIMEZONE
BEGIN:VEVENT
DTSTART;TZID=Europe/Berlin:20231104T083000
DTEND;TZID=Europe/Berlin:20231104T180000
DTSTAMP:20260421T062726
CREATED:20231103T193023Z
LAST-MODIFIED:20231103T193024Z
UID:67522-1699086600-1699120800@www.febg.de
SUMMARY:Alphatag
DESCRIPTION:
URL:https://www.febg.de/event/alphatag/
END:VEVENT
BEGIN:VEVENT
DTSTART;TZID=Europe/Berlin:20231104T190000
DTEND;TZID=Europe/Berlin:20231104T204500
DTSTAMP:20260421T062726
CREATED:20231005T090917Z
LAST-MODIFIED:20231104T193342Z
UID:67371-1699124400-1699130700@www.febg.de
SUMMARY:Jugendstunde
DESCRIPTION:
URL:https://www.febg.de/event/jugendstunde-40/
END:VEVENT
BEGIN:VEVENT
DTSTART;TZID=Europe/Berlin:20231104T190000
DTEND;TZID=Europe/Berlin:20231104T220000
DTSTAMP:20260421T062726
CREATED:20231005T090917Z
LAST-MODIFIED:20231102T193027Z
UID:67372-1699124400-1699135200@www.febg.de
SUMMARY:Alphakurs
DESCRIPTION:
URL:https://www.febg.de/event/alphakurs-6/
END:VEVENT
BEGIN:VEVENT
DTSTART;TZID=Europe/Berlin:20231105T103000
DTEND;TZID=Europe/Berlin:20231105T120000
DTSTAMP:20260421T062726
CREATED:20231005T090917Z
LAST-MODIFIED:20231104T193342Z
UID:67369-1699180200-1699185600@www.febg.de
SUMMARY:Gottesdienst Kevin Lux Valentin Hildebrand
DESCRIPTION:
URL:https://www.febg.de/event/gottesdienst-kevin-lux-valentin-hildebrand-13/
END:VEVENT
BEGIN:VEVENT
DTSTART;TZID=Europe/Berlin:20231105T103000
DTEND;TZID=Europe/Berlin:20231105T120000
DTSTAMP:20260421T062726
CREATED:20231101T193021Z
LAST-MODIFIED:20231104T193342Z
UID:67507-1699180200-1699185600@www.febg.de
SUMMARY:Standard
DESCRIPTION:
URL:https://www.febg.de/event/standard-21/
END:VEVENT
BEGIN:VEVENT
DTSTART;TZID=Europe/Berlin:20231109T190000
DTEND;TZID=Europe/Berlin:20231109T220000
DTSTAMP:20260421T062726
CREATED:20231005T090917Z
LAST-MODIFIED:20231108T194508Z
UID:67370-1699556400-1699567200@www.febg.de
SUMMARY:Alphakurs
DESCRIPTION:
URL:https://www.febg.de/event/alphakurs-5/
END:VEVENT
BEGIN:VEVENT
DTSTART;TZID=Europe/Berlin:20231110T190000
DTEND;TZID=Europe/Berlin:20231110T201500
DTSTAMP:20260421T062726
CREATED:20231005T090917Z
LAST-MODIFIED:20231108T194508Z
UID:67376-1699642800-1699647300@www.febg.de
SUMMARY:Begegnungsabend
DESCRIPTION:
URL:https://www.febg.de/event/begegnungsabend-9/
END:VEVENT
BEGIN:VEVENT
DTSTART;TZID=Europe/Berlin:20231111T190000
DTEND;TZID=Europe/Berlin:20231111T204500
DTSTAMP:20260421T062726
CREATED:20231005T090917Z
LAST-MODIFIED:20231108T194508Z
UID:67377-1699729200-1699735500@www.febg.de
SUMMARY:Jugendstunde
DESCRIPTION:
URL:https://www.febg.de/event/jugendstunde-41/
END:VEVENT
BEGIN:VEVENT
DTSTART;TZID=Europe/Berlin:20231112T103000
DTEND;TZID=Europe/Berlin:20231112T120000
DTSTAMP:20260421T062726
CREATED:20231005T090917Z
LAST-MODIFIED:20231111T214738Z
UID:67373-1699785000-1699790400@www.febg.de
SUMMARY:Gottesdienst Kevin Lux Valentin Hildebrand
DESCRIPTION:
URL:https://www.febg.de/event/gottesdienst-kevin-lux-valentin-hildebrand-14/
END:VEVENT
BEGIN:VEVENT
DTSTART;TZID=Europe/Berlin:20231112T103000
DTEND;TZID=Europe/Berlin:20231112T123000
DTSTAMP:20260421T062726
CREATED:20231005T090917Z
LAST-MODIFIED:20231111T214738Z
UID:67374-1699785000-1699792200@www.febg.de
SUMMARY:Gottesdienst
DESCRIPTION:
URL:https://www.febg.de/event/gottesdienst-207/
END:VEVENT
BEGIN:VEVENT
DTSTART;TZID=Europe/Berlin:20231116T190000
DTEND;TZID=Europe/Berlin:20231116T203000
DTSTAMP:20260421T062726
CREATED:20231005T090917Z
LAST-MODIFIED:20231115T214654Z
UID:67381-1700161200-1700166600@www.febg.de
SUMMARY:CiB Vortag
DESCRIPTION:Thema: Messianische Juden – Referent: Herr Evgeni Ivanov  von Beit Sar Shalom
URL:https://www.febg.de/event/cib-vortag/
LOCATION:Evangelisches Gemeindehaus\, Darmstädter Straße 43\, 64404\, Bickenbach\, DE
END:VEVENT
BEGIN:VEVENT
DTSTART;TZID=Europe/Berlin:20231116T190000
DTEND;TZID=Europe/Berlin:20231116T220000
DTSTAMP:20260421T062726
CREATED:20231005T090917Z
LAST-MODIFIED:20231115T214654Z
UID:67375-1700161200-1700172000@www.febg.de
SUMMARY:Alphakurs
DESCRIPTION:
URL:https://www.febg.de/event/alphakurs-7/
END:VEVENT
BEGIN:VEVENT
DTSTART;TZID=Europe/Berlin:20231117T190000
DTEND;TZID=Europe/Berlin:20231117T201500
DTSTAMP:20260421T062726
CREATED:20231005T090917Z
LAST-MODIFIED:20231116T215833Z
UID:67383-1700247600-1700252100@www.febg.de
SUMMARY:Begegnungsabend
DESCRIPTION:
URL:https://www.febg.de/event/begegnungsabend-10/
END:VEVENT
BEGIN:VEVENT
DTSTART;TZID=Europe/Berlin:20231118T190000
DTEND;TZID=Europe/Berlin:20231118T204500
DTSTAMP:20260421T062726
CREATED:20231005T090917Z
LAST-MODIFIED:20231117T220206Z
UID:67384-1700334000-1700340300@www.febg.de
SUMMARY:Jugendstunde
DESCRIPTION:
URL:https://www.febg.de/event/jugendstunde-42/
END:VEVENT
BEGIN:VEVENT
DTSTART;TZID=Europe/Berlin:20231119T103000
DTEND;TZID=Europe/Berlin:20231119T120000
DTSTAMP:20260421T062726
CREATED:20231005T090917Z
LAST-MODIFIED:20231118T221610Z
UID:67378-1700389800-1700395200@www.febg.de
SUMMARY:Gottesdienst Kevin Lux Valentin Hildebrand
DESCRIPTION:
URL:https://www.febg.de/event/gottesdienst-kevin-lux-valentin-hildebrand-15/
END:VEVENT
BEGIN:VEVENT
DTSTART;TZID=Europe/Berlin:20231119T103000
DTEND;TZID=Europe/Berlin:20231119T123000
DTSTAMP:20260421T062726
CREATED:20231005T090917Z
LAST-MODIFIED:20231118T221610Z
UID:67379-1700389800-1700397000@www.febg.de
SUMMARY:Gottesdienst
DESCRIPTION:
URL:https://www.febg.de/event/gottesdienst-208/
END:VEVENT
BEGIN:VEVENT
DTSTART;TZID=Europe/Berlin:20231123T190000
DTEND;TZID=Europe/Berlin:20231123T220000
DTSTAMP:20260421T062726
CREATED:20231005T090917Z
LAST-MODIFIED:20231122T225156Z
UID:67382-1700766000-1700776800@www.febg.de
SUMMARY:Alphakurs
DESCRIPTION:
URL:https://www.febg.de/event/alphakurs-8/
END:VEVENT
BEGIN:VEVENT
DTSTART;TZID=Europe/Berlin:20231123T190000
DTEND;TZID=Europe/Berlin:20231123T220000
DTSTAMP:20260421T062726
CREATED:20231005T090918Z
LAST-MODIFIED:20231102T193028Z
UID:67387-1700766000-1700776800@www.febg.de
SUMMARY:Alphakurs
DESCRIPTION:
URL:https://www.febg.de/event/alphakurs-9/
END:VEVENT
BEGIN:VEVENT
DTSTART;TZID=Europe/Berlin:20231124T190000
DTEND;TZID=Europe/Berlin:20231124T201500
DTSTAMP:20260421T062726
CREATED:20231005T090918Z
LAST-MODIFIED:20231122T225156Z
UID:67388-1700852400-1700856900@www.febg.de
SUMMARY:Begegnungsabend
DESCRIPTION:
URL:https://www.febg.de/event/begegnungsabend-11/
END:VEVENT
BEGIN:VEVENT
DTSTART;TZID=Europe/Berlin:20231125T190000
DTEND;TZID=Europe/Berlin:20231125T204500
DTSTAMP:20260421T062726
CREATED:20231005T090918Z
LAST-MODIFIED:20231124T235446Z
UID:67389-1700938800-1700945100@www.febg.de
SUMMARY:Jugendstunde
DESCRIPTION:
URL:https://www.febg.de/event/jugendstunde-43/
END:VEVENT
BEGIN:VEVENT
DTSTART;TZID=Europe/Berlin:20231126T103000
DTEND;TZID=Europe/Berlin:20231126T120000
DTSTAMP:20260421T062726
CREATED:20231005T090918Z
LAST-MODIFIED:20231124T235446Z
UID:67391-1700994600-1701000000@www.febg.de
SUMMARY:Gottesdienst & Taufe Kevin Lux Valentin Hildebrand
DESCRIPTION:
URL:https://www.febg.de/event/gottesdienst-taufe-valentin-hildebrand/
END:VEVENT
BEGIN:VEVENT
DTSTART;TZID=Europe/Berlin:20231126T103000
DTEND;TZID=Europe/Berlin:20231126T123000
DTSTAMP:20260421T062726
CREATED:20231005T090918Z
LAST-MODIFIED:20231124T235446Z
UID:67385-1700994600-1701001800@www.febg.de
SUMMARY:Gottesdienst
DESCRIPTION:
URL:https://www.febg.de/event/gottesdienst-209/
END:VEVENT
END:VCALENDAR