BEGIN:VCALENDAR
VERSION:2.0
PRODID:-//Freie Evangelische Baptisten-Gemeinde - ECPv6.15.18//NONSGML v1.0//EN
CALSCALE:GREGORIAN
METHOD:PUBLISH
X-WR-CALNAME:Freie Evangelische Baptisten-Gemeinde
X-ORIGINAL-URL:https://www.febg.de
X-WR-CALDESC:Veranstaltungen für Freie Evangelische Baptisten-Gemeinde
REFRESH-INTERVAL;VALUE=DURATION:PT1H
X-Robots-Tag:noindex
X-PUBLISHED-TTL:PT1H
BEGIN:VTIMEZONE
TZID:Europe/Berlin
BEGIN:DAYLIGHT
TZOFFSETFROM:+0100
TZOFFSETTO:+0200
TZNAME:CEST
DTSTART:20220327T010000
END:DAYLIGHT
BEGIN:STANDARD
TZOFFSETFROM:+0200
TZOFFSETTO:+0100
TZNAME:CET
DTSTART:20221030T010000
END:STANDARD
BEGIN:DAYLIGHT
TZOFFSETFROM:+0100
TZOFFSETTO:+0200
TZNAME:CEST
DTSTART:20230326T010000
END:DAYLIGHT
BEGIN:STANDARD
TZOFFSETFROM:+0200
TZOFFSETTO:+0100
TZNAME:CET
DTSTART:20231029T010000
END:STANDARD
BEGIN:DAYLIGHT
TZOFFSETFROM:+0100
TZOFFSETTO:+0200
TZNAME:CEST
DTSTART:20240331T010000
END:DAYLIGHT
BEGIN:STANDARD
TZOFFSETFROM:+0200
TZOFFSETTO:+0100
TZNAME:CET
DTSTART:20241027T010000
END:STANDARD
END:VTIMEZONE
BEGIN:VEVENT
DTSTART;TZID=Europe/Berlin:20231201T190000
DTEND;TZID=Europe/Berlin:20231201T201500
DTSTAMP:20260421T044633
CREATED:20231005T090918Z
LAST-MODIFIED:20231201T151723Z
UID:67392-1701457200-1701461700@www.febg.de
SUMMARY:Begegnungsabend
DESCRIPTION:
URL:https://www.febg.de/event/begegnungsabend-12/
END:VEVENT
BEGIN:VEVENT
DTSTART;TZID=Europe/Berlin:20231202T190000
DTEND;TZID=Europe/Berlin:20231202T204500
DTSTAMP:20260421T044633
CREATED:20231005T090918Z
LAST-MODIFIED:20231202T153419Z
UID:67393-1701543600-1701549900@www.febg.de
SUMMARY:Jugendstunde
DESCRIPTION:
URL:https://www.febg.de/event/jugendstunde-44/
END:VEVENT
BEGIN:VEVENT
DTSTART;TZID=Europe/Berlin:20231203T103000
DTEND;TZID=Europe/Berlin:20231203T120000
DTSTAMP:20260421T044633
CREATED:20231005T090918Z
LAST-MODIFIED:20231202T153419Z
UID:67394-1701599400-1701604800@www.febg.de
SUMMARY:Gottesdienst (Predigt Magnus Rabel)
DESCRIPTION:
URL:https://www.febg.de/event/gottesdienst-predigt-magnus-rabel-3/
END:VEVENT
BEGIN:VEVENT
DTSTART;TZID=Europe/Berlin:20231203T103000
DTEND;TZID=Europe/Berlin:20231203T120000
DTSTAMP:20260421T044633
CREATED:20231005T090918Z
LAST-MODIFIED:20231202T153419Z
UID:67386-1701599400-1701604800@www.febg.de
SUMMARY:Gottesdienst Kevin Lux Valentin Hildebrand
DESCRIPTION:
URL:https://www.febg.de/event/gottesdienst-valentin-hildebrand/
END:VEVENT
BEGIN:VEVENT
DTSTART;TZID=Europe/Berlin:20231203T103000
DTEND;TZID=Europe/Berlin:20231203T123000
DTSTAMP:20260421T044633
CREATED:20231005T090918Z
LAST-MODIFIED:20231202T153419Z
UID:67390-1701599400-1701606600@www.febg.de
SUMMARY:Gottesdienst
DESCRIPTION:
URL:https://www.febg.de/event/gottesdienst-210/
END:VEVENT
BEGIN:VEVENT
DTSTART;TZID=Europe/Berlin:20231207T170000
DTEND;TZID=Europe/Berlin:20231207T200000
DTSTAMP:20260421T044633
CREATED:20231008T172036Z
LAST-MODIFIED:20231207T165023Z
UID:67461-1701968400-1701979200@www.febg.de
SUMMARY:Daniel Kalauch
DESCRIPTION:
URL:https://www.febg.de/event/daniel-kalauch/
END:VEVENT
BEGIN:VEVENT
DTSTART;TZID=Europe/Berlin:20231209T190000
DTEND;TZID=Europe/Berlin:20231209T204500
DTSTAMP:20260421T044633
CREATED:20231010T173008Z
LAST-MODIFIED:20231209T170841Z
UID:67465-1702148400-1702154700@www.febg.de
SUMMARY:Jugendstunde
DESCRIPTION:
URL:https://www.febg.de/event/jugendstunde-45/
END:VEVENT
BEGIN:VEVENT
DTSTART;TZID=Europe/Berlin:20231210T103000
DTEND;TZID=Europe/Berlin:20231210T120000
DTSTAMP:20260421T044633
CREATED:20231005T090918Z
LAST-MODIFIED:20231209T170841Z
UID:67396-1702204200-1702209600@www.febg.de
SUMMARY:Gottesdienst Kevin Lux Valentin Hildebrand
DESCRIPTION:
URL:https://www.febg.de/event/gottesdienst-212/
END:VEVENT
BEGIN:VEVENT
DTSTART;TZID=Europe/Berlin:20231210T103000
DTEND;TZID=Europe/Berlin:20231210T123000
DTSTAMP:20260421T044633
CREATED:20231005T090918Z
LAST-MODIFIED:20231209T170841Z
UID:67395-1702204200-1702211400@www.febg.de
SUMMARY:Gottesdienst
DESCRIPTION:
URL:https://www.febg.de/event/gottesdienst-211/
END:VEVENT
BEGIN:VEVENT
DTSTART;TZID=Europe/Berlin:20231216T190000
DTEND;TZID=Europe/Berlin:20231216T204500
DTSTAMP:20260421T044633
CREATED:20231017T181522Z
LAST-MODIFIED:20231216T180014Z
UID:67480-1702753200-1702759500@www.febg.de
SUMMARY:Jugendstunde
DESCRIPTION:
URL:https://www.febg.de/event/jugendstunde-46/
END:VEVENT
BEGIN:VEVENT
DTSTART;TZID=Europe/Berlin:20231217T103000
DTEND;TZID=Europe/Berlin:20231217T120000
DTSTAMP:20260421T044633
CREATED:20231018T181843Z
LAST-MODIFIED:20231216T180014Z
UID:67484-1702809000-1702814400@www.febg.de
SUMMARY:Gottesdienst Kevin Lux Valentin Hildebrand
DESCRIPTION:
URL:https://www.febg.de/event/gottesdienst-215/
END:VEVENT
BEGIN:VEVENT
DTSTART;TZID=Europe/Berlin:20231217T103000
DTEND;TZID=Europe/Berlin:20231217T123000
DTSTAMP:20260421T044633
CREATED:20231011T173043Z
LAST-MODIFIED:20231216T180014Z
UID:67471-1702809000-1702816200@www.febg.de
SUMMARY:Gottesdienst
DESCRIPTION:
URL:https://www.febg.de/event/gottesdienst-213/
END:VEVENT
BEGIN:VEVENT
DTSTART;TZID=Europe/Berlin:20231217T103000
DTEND;TZID=Europe/Berlin:20231217T123000
DTSTAMP:20260421T044633
CREATED:20231018T181842Z
LAST-MODIFIED:20231031T193116Z
UID:67483-1702809000-1702816200@www.febg.de
SUMMARY:Gottesdienst
DESCRIPTION:
URL:https://www.febg.de/event/gottesdienst-214/
END:VEVENT
BEGIN:VEVENT
DTSTART;TZID=Europe/Berlin:20231223T190000
DTEND;TZID=Europe/Berlin:20231223T204500
DTSTAMP:20260421T044633
CREATED:20231024T191014Z
LAST-MODIFIED:20231223T184537Z
UID:67493-1703358000-1703364300@www.febg.de
SUMMARY:Jugendstunde
DESCRIPTION:
URL:https://www.febg.de/event/jugendstunde-47/
END:VEVENT
BEGIN:VEVENT
DTSTART;TZID=Europe/Berlin:20231224T103000
DTEND;TZID=Europe/Berlin:20231224T123000
DTSTAMP:20260421T044633
CREATED:20231025T191709Z
LAST-MODIFIED:20231031T193116Z
UID:67496-1703413800-1703421000@www.febg.de
SUMMARY:Gottesdienst
DESCRIPTION:
URL:https://www.febg.de/event/gottesdienst-216/
END:VEVENT
BEGIN:VEVENT
DTSTART;TZID=Europe/Berlin:20231224T160000
DTEND;TZID=Europe/Berlin:20231224T173000
DTSTAMP:20260421T044633
CREATED:20231101T193022Z
LAST-MODIFIED:20231223T184538Z
UID:67513-1703433600-1703439000@www.febg.de
SUMMARY:Gottesdienst Kevin Lux Valentin Hildebrand
DESCRIPTION:
URL:https://www.febg.de/event/gottesdienst-kevin-lux-3/
END:VEVENT
BEGIN:VEVENT
DTSTART;TZID=Europe/Berlin:20231225T103000
DTEND;TZID=Europe/Berlin:20231225T120000
DTSTAMP:20260421T044633
CREATED:20231101T193022Z
LAST-MODIFIED:20231224T185133Z
UID:67514-1703500200-1703505600@www.febg.de
SUMMARY:1 Weihnachtsfeiertag Kevin Lux Valentin Hildebrand
DESCRIPTION:
URL:https://www.febg.de/event/1-weihnachtsfeiertag-kevin-lux/
END:VEVENT
BEGIN:VEVENT
DTSTART;TZID=Europe/Berlin:20231230T190000
DTEND;TZID=Europe/Berlin:20231230T204500
DTSTAMP:20260421T044633
CREATED:20231031T193116Z
LAST-MODIFIED:20231230T193008Z
UID:67504-1703962800-1703969100@www.febg.de
SUMMARY:Jugendstunde
DESCRIPTION:
URL:https://www.febg.de/event/jugendstunde-48/
END:VEVENT
BEGIN:VEVENT
DTSTART;TZID=Europe/Berlin:20231231T103000
DTEND;TZID=Europe/Berlin:20231231T120000
DTSTAMP:20260421T044633
CREATED:20231127T150011Z
LAST-MODIFIED:20231219T181506Z
UID:67563-1704018600-1704024000@www.febg.de
SUMMARY:Standard
DESCRIPTION:
URL:https://www.febg.de/event/standard-22/
END:VEVENT
BEGIN:VEVENT
DTSTART;TZID=Europe/Berlin:20231231T150000
DTEND;TZID=Europe/Berlin:20231231T163000
DTSTAMP:20260421T044633
CREATED:20231101T193022Z
LAST-MODIFIED:20231230T193008Z
UID:67515-1704034800-1704040200@www.febg.de
SUMMARY:Gottesdienst Kevin Lux Valentin Hildebrand
DESCRIPTION:
URL:https://www.febg.de/event/gottesdienst-kevin-lux-4/
END:VEVENT
END:VCALENDAR