BEGIN:VCALENDAR
VERSION:2.0
PRODID:-//Freie Evangelische Baptisten-Gemeinde - ECPv6.15.18//NONSGML v1.0//EN
CALSCALE:GREGORIAN
METHOD:PUBLISH
X-WR-CALNAME:Freie Evangelische Baptisten-Gemeinde
X-ORIGINAL-URL:https://www.febg.de
X-WR-CALDESC:Veranstaltungen für Freie Evangelische Baptisten-Gemeinde
REFRESH-INTERVAL;VALUE=DURATION:PT1H
X-Robots-Tag:noindex
X-PUBLISHED-TTL:PT1H
BEGIN:VTIMEZONE
TZID:Europe/Berlin
BEGIN:DAYLIGHT
TZOFFSETFROM:+0100
TZOFFSETTO:+0200
TZNAME:CEST
DTSTART:20230326T010000
END:DAYLIGHT
BEGIN:STANDARD
TZOFFSETFROM:+0200
TZOFFSETTO:+0100
TZNAME:CET
DTSTART:20231029T010000
END:STANDARD
BEGIN:DAYLIGHT
TZOFFSETFROM:+0100
TZOFFSETTO:+0200
TZNAME:CEST
DTSTART:20240331T010000
END:DAYLIGHT
BEGIN:STANDARD
TZOFFSETFROM:+0200
TZOFFSETTO:+0100
TZNAME:CET
DTSTART:20241027T010000
END:STANDARD
BEGIN:DAYLIGHT
TZOFFSETFROM:+0100
TZOFFSETTO:+0200
TZNAME:CEST
DTSTART:20250330T010000
END:DAYLIGHT
BEGIN:STANDARD
TZOFFSETFROM:+0200
TZOFFSETTO:+0100
TZNAME:CET
DTSTART:20251026T010000
END:STANDARD
END:VTIMEZONE
BEGIN:VEVENT
DTSTART;TZID=Europe/Berlin:20240107T103000
DTEND;TZID=Europe/Berlin:20240107T120000
DTSTAMP:20260421T025356
CREATED:20231127T150012Z
LAST-MODIFIED:20240106T201507Z
UID:67564-1704623400-1704628800@www.febg.de
SUMMARY:Gottesdienst mit Abendmahl Kevin Lux Valentin Hildebrand
DESCRIPTION:
URL:https://www.febg.de/event/gottesdienst-217/
END:VEVENT
BEGIN:VEVENT
DTSTART;TZID=Europe/Berlin:20240114T103000
DTEND;TZID=Europe/Berlin:20240114T120000
DTSTAMP:20260421T025356
CREATED:20231127T150012Z
LAST-MODIFIED:20240113T204508Z
UID:67565-1705228200-1705233600@www.febg.de
SUMMARY:Gottesdienst Kevin Lux Valentin Hildebrand
DESCRIPTION:
URL:https://www.febg.de/event/gottesdienst-218/
END:VEVENT
BEGIN:VEVENT
DTSTART;TZID=Europe/Berlin:20240115T190000
DTEND;TZID=Europe/Berlin:20240115T203000
DTSTAMP:20260421T025356
CREATED:20240105T201639Z
LAST-MODIFIED:20240114T205729Z
UID:67631-1705345200-1705350600@www.febg.de
SUMMARY:Gebetswoche
DESCRIPTION:
URL:https://www.febg.de/event/gebetswoche-7/
END:VEVENT
BEGIN:VEVENT
DTSTART;TZID=Europe/Berlin:20240116T190000
DTEND;TZID=Europe/Berlin:20240116T203000
DTSTAMP:20260421T025356
CREATED:20240105T201639Z
LAST-MODIFIED:20240115T211140Z
UID:67632-1705431600-1705437000@www.febg.de
SUMMARY:Gebetswoche
DESCRIPTION:
URL:https://www.febg.de/event/gebetswoche-8/
END:VEVENT
BEGIN:VEVENT
DTSTART;TZID=Europe/Berlin:20240117T190000
DTEND;TZID=Europe/Berlin:20240117T203000
DTSTAMP:20260421T025356
CREATED:20240105T201639Z
LAST-MODIFIED:20240116T213109Z
UID:67633-1705518000-1705523400@www.febg.de
SUMMARY:Gebetswoche
DESCRIPTION:
URL:https://www.febg.de/event/gebetswoche-9/
END:VEVENT
BEGIN:VEVENT
DTSTART;TZID=Europe/Berlin:20240118T190000
DTEND;TZID=Europe/Berlin:20240118T203000
DTSTAMP:20260421T025356
CREATED:20240105T201639Z
LAST-MODIFIED:20240117T212933Z
UID:67634-1705604400-1705609800@www.febg.de
SUMMARY:Gebetswoche
DESCRIPTION:
URL:https://www.febg.de/event/gebetswoche-10/
END:VEVENT
BEGIN:VEVENT
DTSTART;TZID=Europe/Berlin:20240119T190000
DTEND;TZID=Europe/Berlin:20240119T203000
DTSTAMP:20260421T025356
CREATED:20231120T223008Z
LAST-MODIFIED:20240118T213121Z
UID:67549-1705690800-1705696200@www.febg.de
SUMMARY:CiB Gebetsgottesdienst
DESCRIPTION:
URL:https://www.febg.de/event/cib-gebetsgottesdienst-2/
LOCATION:Ev Kirche Bickenbach
END:VEVENT
BEGIN:VEVENT
DTSTART;TZID=Europe/Berlin:20240121T103000
DTEND;TZID=Europe/Berlin:20240121T120000
DTSTAMP:20260421T025356
CREATED:20231128T150010Z
LAST-MODIFIED:20240120T213118Z
UID:67571-1705833000-1705838400@www.febg.de
SUMMARY:Gottesdienst Kevin Lux Valentin Hildebrand
DESCRIPTION:
URL:https://www.febg.de/event/gottesdienst-219/
END:VEVENT
BEGIN:VEVENT
DTSTART;TZID=Europe/Berlin:20240128T103000
DTEND;TZID=Europe/Berlin:20240128T120000
DTSTAMP:20260421T025356
CREATED:20231127T150012Z
LAST-MODIFIED:20240127T223016Z
UID:67566-1706437800-1706443200@www.febg.de
SUMMARY:Standard Kevin Lux Valentin Hildebrand
DESCRIPTION:
URL:https://www.febg.de/event/standard-23/
END:VEVENT
END:VCALENDAR