BEGIN:VCALENDAR
VERSION:2.0
PRODID:-//Freie Evangelische Baptisten-Gemeinde - ECPv6.15.18//NONSGML v1.0//EN
CALSCALE:GREGORIAN
METHOD:PUBLISH
X-ORIGINAL-URL:https://www.febg.de
X-WR-CALDESC:Veranstaltungen für Freie Evangelische Baptisten-Gemeinde
REFRESH-INTERVAL;VALUE=DURATION:PT1H
X-Robots-Tag:noindex
X-PUBLISHED-TTL:PT1H
BEGIN:VTIMEZONE
TZID:Europe/Berlin
BEGIN:DAYLIGHT
TZOFFSETFROM:+0100
TZOFFSETTO:+0200
TZNAME:CEST
DTSTART:20230326T010000
END:DAYLIGHT
BEGIN:STANDARD
TZOFFSETFROM:+0200
TZOFFSETTO:+0100
TZNAME:CET
DTSTART:20231029T010000
END:STANDARD
BEGIN:DAYLIGHT
TZOFFSETFROM:+0100
TZOFFSETTO:+0200
TZNAME:CEST
DTSTART:20240331T010000
END:DAYLIGHT
BEGIN:STANDARD
TZOFFSETFROM:+0200
TZOFFSETTO:+0100
TZNAME:CET
DTSTART:20241027T010000
END:STANDARD
BEGIN:DAYLIGHT
TZOFFSETFROM:+0100
TZOFFSETTO:+0200
TZNAME:CEST
DTSTART:20250330T010000
END:DAYLIGHT
BEGIN:STANDARD
TZOFFSETFROM:+0200
TZOFFSETTO:+0100
TZNAME:CET
DTSTART:20251026T010000
END:STANDARD
END:VTIMEZONE
BEGIN:VEVENT
DTSTART;TZID=Europe/Berlin:20240302T190000
DTEND;TZID=Europe/Berlin:20240302T230000
DTSTAMP:20260420T234229
CREATED:20240224T163449Z
LAST-MODIFIED:20240302T171642Z
UID:67747-1709406000-1709420400@www.febg.de
SUMMARY:Jugendstunde
DESCRIPTION:Für Menschen ab 16 Jahren.
URL:https://www.febg.de/event/jugendstunde-50/
END:VEVENT
BEGIN:VEVENT
DTSTART;TZID=Europe/Berlin:20240303T103000
DTEND;TZID=Europe/Berlin:20240303T120000
DTSTAMP:20260420T234229
CREATED:20240105T201639Z
LAST-MODIFIED:20240302T171642Z
UID:67641-1709461800-1709467200@www.febg.de
SUMMARY:Gottesdienst mit Abendmahl Kevin Lux Valentin Hildebrand
DESCRIPTION:
URL:https://www.febg.de/event/gottesdienst-mit-abendmahl-kevin-lux-valentin-hildebrand-2/
END:VEVENT
BEGIN:VEVENT
DTSTART;TZID=Europe/Berlin:20240309T190000
DTEND;TZID=Europe/Berlin:20240309T230000
DTSTAMP:20260420T234229
CREATED:20240224T163449Z
LAST-MODIFIED:20240309T180011Z
UID:67748-1710010800-1710025200@www.febg.de
SUMMARY:Jugendstunde
DESCRIPTION:Für Menschen ab 16 Jahren.
URL:https://www.febg.de/event/jugendstunde-51/
END:VEVENT
BEGIN:VEVENT
DTSTART;TZID=Europe/Berlin:20240310T103000
DTEND;TZID=Europe/Berlin:20240310T120000
DTSTAMP:20260420T234229
CREATED:20240309T180009Z
LAST-MODIFIED:20240309T180011Z
UID:67816-1710066600-1710072000@www.febg.de
SUMMARY:Gottesdienst
DESCRIPTION:
URL:https://www.febg.de/event/gottesdienst-220/
END:VEVENT
BEGIN:VEVENT
DTSTART;TZID=Europe/Berlin:20240316T190000
DTEND;TZID=Europe/Berlin:20240316T230000
DTSTAMP:20260420T234229
CREATED:20240224T163450Z
LAST-MODIFIED:20240316T183110Z
UID:67749-1710615600-1710630000@www.febg.de
SUMMARY:Jugendstunde
DESCRIPTION:Für Menschen ab 16 Jahren.
URL:https://www.febg.de/event/jugendstunde-52/
END:VEVENT
BEGIN:VEVENT
DTSTART;TZID=Europe/Berlin:20240317T103000
DTEND;TZID=Europe/Berlin:20240317T120000
DTSTAMP:20260420T234229
CREATED:20231227T191357Z
LAST-MODIFIED:20240316T183110Z
UID:67616-1710671400-1710676800@www.febg.de
SUMMARY:Standard
DESCRIPTION:
URL:https://www.febg.de/event/standard-valentin-hildebrand-4/
END:VEVENT
BEGIN:VEVENT
DTSTART;TZID=Europe/Berlin:20240318T190000
DTEND;TZID=Europe/Berlin:20240318T203000
DTSTAMP:20260420T234229
CREATED:20240118T213121Z
LAST-MODIFIED:20240305T173810Z
UID:67664-1710788400-1710793800@www.febg.de
SUMMARY:Gebetswoche
DESCRIPTION:
URL:https://www.febg.de/event/gebetswoche-22/
END:VEVENT
BEGIN:VEVENT
DTSTART;TZID=Europe/Berlin:20240318T190000
DTEND;TZID=Europe/Berlin:20240318T203000
DTSTAMP:20260420T234229
CREATED:20240118T213121Z
LAST-MODIFIED:20240122T220043Z
UID:67665-1710788400-1710793800@www.febg.de
SUMMARY:Bibelwoche
DESCRIPTION:
URL:https://www.febg.de/event/bibelwoche/
END:VEVENT
BEGIN:VEVENT
DTSTART;TZID=Europe/Berlin:20240318T190000
DTEND;TZID=Europe/Berlin:20240318T203000
DTSTAMP:20260420T234229
CREATED:20240118T213121Z
LAST-MODIFIED:20240318T183015Z
UID:67666-1710788400-1710793800@www.febg.de
SUMMARY:Bibelwoche
DESCRIPTION:
URL:https://www.febg.de/event/bibelwoche-kevin-lux/
END:VEVENT
BEGIN:VEVENT
DTSTART;TZID=Europe/Berlin:20240319T190000
DTEND;TZID=Europe/Berlin:20240319T203000
DTSTAMP:20260420T234229
CREATED:20240119T213038Z
LAST-MODIFIED:20240122T220043Z
UID:67672-1710874800-1710880200@www.febg.de
SUMMARY:Bibelwoche
DESCRIPTION:
URL:https://www.febg.de/event/bibelwoche-2/
END:VEVENT
BEGIN:VEVENT
DTSTART;TZID=Europe/Berlin:20240319T190000
DTEND;TZID=Europe/Berlin:20240319T203000
DTSTAMP:20260420T234229
CREATED:20240119T213038Z
LAST-MODIFIED:20240319T184522Z
UID:67673-1710874800-1710880200@www.febg.de
SUMMARY:Bibelwoche
DESCRIPTION:
URL:https://www.febg.de/event/bibelwoche-kevin-lux-2/
END:VEVENT
BEGIN:VEVENT
DTSTART;TZID=Europe/Berlin:20240319T190000
DTEND;TZID=Europe/Berlin:20240319T203000
DTSTAMP:20260420T234229
CREATED:20240119T213038Z
LAST-MODIFIED:20240305T173810Z
UID:67671-1710874800-1710880200@www.febg.de
SUMMARY:Gebetswoche
DESCRIPTION:
URL:https://www.febg.de/event/gebetswoche-23/
END:VEVENT
BEGIN:VEVENT
DTSTART;TZID=Europe/Berlin:20240320T190000
DTEND;TZID=Europe/Berlin:20240320T203000
DTSTAMP:20260420T234229
CREATED:20240120T213118Z
LAST-MODIFIED:20240122T220043Z
UID:67678-1710961200-1710966600@www.febg.de
SUMMARY:Bibelwoche
DESCRIPTION:
URL:https://www.febg.de/event/bibelwoche-3/
END:VEVENT
BEGIN:VEVENT
DTSTART;TZID=Europe/Berlin:20240320T190000
DTEND;TZID=Europe/Berlin:20240320T203000
DTSTAMP:20260420T234229
CREATED:20240120T213118Z
LAST-MODIFIED:20240320T184508Z
UID:67679-1710961200-1710966600@www.febg.de
SUMMARY:Bibelwoche
DESCRIPTION:
URL:https://www.febg.de/event/bibelwoche-kevin-lux-3/
END:VEVENT
BEGIN:VEVENT
DTSTART;TZID=Europe/Berlin:20240320T190000
DTEND;TZID=Europe/Berlin:20240320T203000
DTSTAMP:20260420T234229
CREATED:20240123T220007Z
LAST-MODIFIED:20240305T173810Z
UID:67699-1710961200-1710966600@www.febg.de
SUMMARY:Gebetswoche
DESCRIPTION:
URL:https://www.febg.de/event/gebetswoche-27/
END:VEVENT
BEGIN:VEVENT
DTSTART;TZID=Europe/Berlin:20240321T190000
DTEND;TZID=Europe/Berlin:20240321T203000
DTSTAMP:20260420T234229
CREATED:20240120T213118Z
LAST-MODIFIED:20240305T173810Z
UID:67680-1711047600-1711053000@www.febg.de
SUMMARY:Gebetswoche
DESCRIPTION:
URL:https://www.febg.de/event/gebetswoche-24/
END:VEVENT
BEGIN:VEVENT
DTSTART;TZID=Europe/Berlin:20240321T190000
DTEND;TZID=Europe/Berlin:20240321T203000
DTSTAMP:20260420T234229
CREATED:20240121T215135Z
LAST-MODIFIED:20240122T220043Z
UID:67686-1711047600-1711053000@www.febg.de
SUMMARY:Bibelwoche
DESCRIPTION:
URL:https://www.febg.de/event/bibelwoche-4/
END:VEVENT
BEGIN:VEVENT
DTSTART;TZID=Europe/Berlin:20240321T190000
DTEND;TZID=Europe/Berlin:20240321T203000
DTSTAMP:20260420T234229
CREATED:20240121T215135Z
LAST-MODIFIED:20240321T184734Z
UID:67687-1711047600-1711053000@www.febg.de
SUMMARY:Bibelwoche
DESCRIPTION:
URL:https://www.febg.de/event/bibelwoche-kevin-lux-4/
END:VEVENT
BEGIN:VEVENT
DTSTART;TZID=Europe/Berlin:20240322T190000
DTEND;TZID=Europe/Berlin:20240322T203000
DTSTAMP:20260420T234229
CREATED:20240121T215135Z
LAST-MODIFIED:20240305T173810Z
UID:67685-1711134000-1711139400@www.febg.de
SUMMARY:Gebetswoche
DESCRIPTION:
URL:https://www.febg.de/event/gebetswoche-25/
END:VEVENT
BEGIN:VEVENT
DTSTART;TZID=Europe/Berlin:20240322T190000
DTEND;TZID=Europe/Berlin:20240322T203000
DTSTAMP:20260420T234229
CREATED:20240122T220042Z
LAST-MODIFIED:20240122T220043Z
UID:67692-1711134000-1711139400@www.febg.de
SUMMARY:Gebetswoche
DESCRIPTION:
URL:https://www.febg.de/event/gebetswoche-26/
END:VEVENT
BEGIN:VEVENT
DTSTART;TZID=Europe/Berlin:20240322T190000
DTEND;TZID=Europe/Berlin:20240322T203000
DTSTAMP:20260420T234229
CREATED:20240122T220043Z
LAST-MODIFIED:20240322T185837Z
UID:67694-1711134000-1711139400@www.febg.de
SUMMARY:Bibelwoche
DESCRIPTION:
URL:https://www.febg.de/event/bibelwoche-kevin-lux-5/
END:VEVENT
BEGIN:VEVENT
DTSTART;TZID=Europe/Berlin:20240322T190000
DTEND;TZID=Europe/Berlin:20240322T203000
DTSTAMP:20260420T234229
CREATED:20240122T220043Z
LAST-MODIFIED:20240122T220043Z
UID:67693-1711134000-1711139400@www.febg.de
SUMMARY:Bibelwoche
DESCRIPTION:
URL:https://www.febg.de/event/bibelwoche-5/
END:VEVENT
BEGIN:VEVENT
DTSTART;TZID=Europe/Berlin:20240323T190000
DTEND;TZID=Europe/Berlin:20240323T230000
DTSTAMP:20260420T234229
CREATED:20240224T163450Z
LAST-MODIFIED:20240323T190046Z
UID:67750-1711220400-1711234800@www.febg.de
SUMMARY:Jugendstunde
DESCRIPTION:Für Menschen ab 16 Jahren.
URL:https://www.febg.de/event/jugendstunde-53/
END:VEVENT
BEGIN:VEVENT
DTSTART;TZID=Europe/Berlin:20240324T103000
DTEND;TZID=Europe/Berlin:20240324T120000
DTSTAMP:20260420T234229
CREATED:20240103T200422Z
LAST-MODIFIED:20240323T190046Z
UID:67625-1711276200-1711281600@www.febg.de
SUMMARY:Standard
DESCRIPTION:
URL:https://www.febg.de/event/standard-valentin-hildebrand-5/
END:VEVENT
BEGIN:VEVENT
DTSTART;TZID=Europe/Berlin:20240328T190000
DTEND;TZID=Europe/Berlin:20240328T203000
DTSTAMP:20260420T234229
CREATED:20240320T184509Z
LAST-MODIFIED:20240328T191721Z
UID:67832-1711652400-1711657800@www.febg.de
SUMMARY:Gründonnerstag
DESCRIPTION:
URL:https://www.febg.de/event/gruendonnerstag-2/
END:VEVENT
BEGIN:VEVENT
DTSTART;TZID=Europe/Berlin:20240329T103000
DTEND;TZID=Europe/Berlin:20240329T120000
DTSTAMP:20260420T234229
CREATED:20240130T231518Z
LAST-MODIFIED:20240328T191721Z
UID:67710-1711708200-1711713600@www.febg.de
SUMMARY:Karfreitag
DESCRIPTION:
URL:https://www.febg.de/event/karfreitag-kevin-lux/
END:VEVENT
BEGIN:VEVENT
DTSTART;TZID=Europe/Berlin:20240330T190000
DTEND;TZID=Europe/Berlin:20240330T230000
DTSTAMP:20260420T234229
CREATED:20240224T163450Z
LAST-MODIFIED:20240330T193313Z
UID:67751-1711825200-1711839600@www.febg.de
SUMMARY:Jugendstunde
DESCRIPTION:Für Menschen ab 16 Jahren.
URL:https://www.febg.de/event/jugendstunde-54/
END:VEVENT
BEGIN:VEVENT
DTSTART;TZID=Europe/Berlin:20240331T103000
DTEND;TZID=Europe/Berlin:20240331T120000
DTSTAMP:20260420T234229
CREATED:20240131T232051Z
LAST-MODIFIED:20240330T193313Z
UID:67714-1711881000-1711886400@www.febg.de
SUMMARY:Ostersonntag
DESCRIPTION:
URL:https://www.febg.de/event/ostersonntag-kevin-lux/
END:VEVENT
END:VCALENDAR