BEGIN:VCALENDAR
VERSION:2.0
PRODID:-//Freie Evangelische Baptisten-Gemeinde - ECPv6.15.18//NONSGML v1.0//EN
CALSCALE:GREGORIAN
METHOD:PUBLISH
X-ORIGINAL-URL:https://www.febg.de
X-WR-CALDESC:Veranstaltungen für Freie Evangelische Baptisten-Gemeinde
REFRESH-INTERVAL;VALUE=DURATION:PT1H
X-Robots-Tag:noindex
X-PUBLISHED-TTL:PT1H
BEGIN:VTIMEZONE
TZID:Europe/Berlin
BEGIN:DAYLIGHT
TZOFFSETFROM:+0100
TZOFFSETTO:+0200
TZNAME:CEST
DTSTART:20240331T010000
END:DAYLIGHT
BEGIN:STANDARD
TZOFFSETFROM:+0200
TZOFFSETTO:+0100
TZNAME:CET
DTSTART:20241027T010000
END:STANDARD
BEGIN:DAYLIGHT
TZOFFSETFROM:+0100
TZOFFSETTO:+0200
TZNAME:CEST
DTSTART:20250330T010000
END:DAYLIGHT
BEGIN:STANDARD
TZOFFSETFROM:+0200
TZOFFSETTO:+0100
TZNAME:CET
DTSTART:20251026T010000
END:STANDARD
BEGIN:DAYLIGHT
TZOFFSETFROM:+0100
TZOFFSETTO:+0200
TZNAME:CEST
DTSTART:20260329T010000
END:DAYLIGHT
BEGIN:STANDARD
TZOFFSETFROM:+0200
TZOFFSETTO:+0100
TZNAME:CET
DTSTART:20261025T010000
END:STANDARD
END:VTIMEZONE
BEGIN:VEVENT
DTSTART;TZID=Europe/Berlin:20250406T103000
DTEND;TZID=Europe/Berlin:20250406T120000
DTSTAMP:20260421T135957
CREATED:20250205T204642Z
LAST-MODIFIED:20250405T180633Z
UID:68394-1743935400-1743940800@www.febg.de
SUMMARY:Gottesdienst
DESCRIPTION:
URL:https://www.febg.de/event/gottesdienst-242/
END:VEVENT
BEGIN:VEVENT
DTSTART;TZID=Europe/Berlin:20250413T103000
DTEND;TZID=Europe/Berlin:20250413T120000
DTSTAMP:20260421T135957
CREATED:20250212T214507Z
LAST-MODIFIED:20250412T182558Z
UID:68403-1744540200-1744545600@www.febg.de
SUMMARY:Gottesdienst
DESCRIPTION:
URL:https://www.febg.de/event/gottesdienst-243/
END:VEVENT
BEGIN:VEVENT
DTSTART;TZID=Europe/Berlin:20250417T190000
DTEND;TZID=Europe/Berlin:20250417T203000
DTSTAMP:20260421T135957
CREATED:20250404T175247Z
LAST-MODIFIED:20250415T183922Z
UID:68475-1744916400-1744921800@www.febg.de
SUMMARY:Standard
DESCRIPTION:
URL:https://www.febg.de/event/standard-41/
END:VEVENT
BEGIN:VEVENT
DTSTART;TZID=Europe/Berlin:20250417T190000
DTEND;TZID=Europe/Berlin:20250417T203000
DTSTAMP:20260421T135957
CREATED:20250404T175247Z
LAST-MODIFIED:20250415T183922Z
UID:68476-1744916400-1744921800@www.febg.de
SUMMARY:Gründonnerstag
DESCRIPTION:
URL:https://www.febg.de/event/gruendonnerstag-3/
END:VEVENT
BEGIN:VEVENT
DTSTART;TZID=Europe/Berlin:20250418T103000
DTEND;TZID=Europe/Berlin:20250418T120000
DTSTAMP:20260421T135957
CREATED:20250217T220226Z
LAST-MODIFIED:20250415T183922Z
UID:68411-1744972200-1744977600@www.febg.de
SUMMARY:Karfreitag
DESCRIPTION:
URL:https://www.febg.de/event/karfreitag-2/
END:VEVENT
BEGIN:VEVENT
DTSTART;TZID=Europe/Berlin:20250420T103000
DTEND;TZID=Europe/Berlin:20250420T120000
DTSTAMP:20260421T135957
CREATED:20250219T220934Z
LAST-MODIFIED:20250415T183922Z
UID:68416-1745145000-1745150400@www.febg.de
SUMMARY:Gottesdienst
DESCRIPTION:
URL:https://www.febg.de/event/gottesdienst-244/
END:VEVENT
BEGIN:VEVENT
DTSTART;TZID=Europe/Berlin:20250427T103000
DTEND;TZID=Europe/Berlin:20250427T120000
DTSTAMP:20260421T135957
CREATED:20250226T233311Z
LAST-MODIFIED:20250415T183922Z
UID:68425-1745749800-1745755200@www.febg.de
SUMMARY:Gottesdienst
DESCRIPTION:
URL:https://www.febg.de/event/gottesdienst-245/
END:VEVENT
END:VCALENDAR